BEGIN:VCALENDAR
VERSION:2.0
PRODID:-//Bad Vilbeler Golfclub Lindenhof e.V. - ECPv6.15.15//NONSGML v1.0//EN
CALSCALE:GREGORIAN
METHOD:PUBLISH
X-WR-CALNAME:Bad Vilbeler Golfclub Lindenhof e.V.
X-ORIGINAL-URL:https://bvgc.nddt-designs.de
X-WR-CALDESC:Veranstaltungen für Bad Vilbeler Golfclub Lindenhof e.V.
REFRESH-INTERVAL;VALUE=DURATION:PT1H
X-Robots-Tag:noindex
X-PUBLISHED-TTL:PT1H
BEGIN:VTIMEZONE
TZID:UTC
BEGIN:STANDARD
TZOFFSETFROM:+0000
TZOFFSETTO:+0000
TZNAME:UTC
DTSTART:20250101T000000
END:STANDARD
END:VTIMEZONE
BEGIN:VEVENT
DTSTART;VALUE=DATE:20260906
DTEND;VALUE=DATE:20260911
DTSTAMP:20260422T131826
CREATED:20260208T115937Z
LAST-MODIFIED:20260208T120502Z
UID:907-1788652800-1789084799@bvgc.nddt-designs.de
SUMMARY:Golfreise nach Norwegen\, Lofoten
DESCRIPTION:(Jonathan Wilson)
URL:https://bvgc.nddt-designs.de/event/golfreise-nach-norwegen-lofoten/
LOCATION:Jonathan Wilson
CATEGORIES:Golfreise
END:VEVENT
BEGIN:VEVENT
DTSTART;VALUE=DATE:20260906
DTEND;VALUE=DATE:20260914
DTSTAMP:20260422T131826
CREATED:20260208T115910Z
LAST-MODIFIED:20260311T141358Z
UID:905-1788652800-1789343999@bvgc.nddt-designs.de
SUMMARY:Golfreise nach Bulgarien
DESCRIPTION:(Bengt Plaschke)
URL:https://bvgc.nddt-designs.de/event/golfreise-nach-bulgarien/
LOCATION:Bengt Plaschke
CATEGORIES:Jugendturniere,neue test kateorie
END:VEVENT
END:VCALENDAR